BEGIN:VCALENDAR
VERSION:2.0
PRODID:-//wp-events-plugin.com//7.2.3.1//EN
TZID:Europe/Luxembourg
X-WR-TIMEZONE:Europe/Luxembourg
BEGIN:VEVENT
UID:174@naturisme.lu
DTSTART;TZID=Europe/Luxembourg:20260501T000000
DTEND;TZID=Europe/Luxembourg:20260501T000000
DTSTAMP:20251029T202612Z
URL:https://www.naturisme.lu/lu/events/slnl-treppeltour/
SUMMARY:SLNL - Trëppeltour
DESCRIPTION:SLNL - Trëppeltour
CATEGORIES:SLNL
LOCATION:SLNL Naturisten-Terrain\, SLNL Naturisten-Terrain\, Luxembourg\, L
 uxembourg
X-APPLE-STRUCTURED-LOCATION;VALUE=URI;X-ADDRESS=SLNL Naturisten-Terrain\, L
 uxembourg\, Luxembourg;X-APPLE-RADIUS=100;X-TITLE=SLNL Naturisten-Terrain:
 geo:0,0
END:VEVENT
BEGIN:VTIMEZONE
TZID:Europe/Luxembourg
X-LIC-LOCATION:Europe/Luxembourg
BEGIN:DAYLIGHT
DTSTART:20260329T030000
TZOFFSETFROM:+0100
TZOFFSETTO:+0200
TZNAME:CEST
END:DAYLIGHT
END:VTIMEZONE
END:VCALENDAR