BEGIN:VCALENDAR
VERSION:2.0
PRODID:-//wp-events-plugin.com//7.2.3.1//EN
TZID:Europe/Luxembourg
X-WR-TIMEZONE:Europe/Luxembourg
BEGIN:VEVENT
UID:11@naturisme.lu
DTSTART;TZID=Europe/Luxembourg:20261003T090000
DTEND;TZID=Europe/Luxembourg:20261003T160000
DTSTAMP:20251029T201450Z
URL:https://www.naturisme.lu/events/slnl-journee-de-travail-automne/
SUMMARY:SLNL - Journée de travail Automne
DESCRIPTION:SLNL - Journée de travail Automne
CATEGORIES:SLNL
LOCATION:SLNL Terrain\, SLNL Terrain\, Luxembourg\, Luxembourg
X-APPLE-STRUCTURED-LOCATION;VALUE=URI;X-ADDRESS=SLNL Terrain\, Luxembourg\,
  Luxembourg;X-APPLE-RADIUS=100;X-TITLE=SLNL Terrain:geo:0,0
END:VEVENT
BEGIN:VTIMEZONE
TZID:Europe/Luxembourg
X-LIC-LOCATION:Europe/Luxembourg
BEGIN:DAYLIGHT
DTSTART:20260329T030000
TZOFFSETFROM:+0100
TZOFFSETTO:+0200
TZNAME:CEST
END:DAYLIGHT
END:VTIMEZONE
END:VCALENDAR