BEGIN:VCALENDAR
VERSION:2.0
PRODID:-//wp-events-plugin.com//7.2.3.1//EN
TZID:Europe/Luxembourg
X-WR-TIMEZONE:Europe/Luxembourg
BEGIN:VEVENT
UID:5@naturisme.lu
DTSTART;TZID=Europe/Luxembourg;VALUE=DATE:20260627
DTEND;TZID=Europe/Luxembourg;VALUE=DATE:20260629
DTSTAMP:20251029T201133Z
URL:https://www.naturisme.lu/events/slnl-fete-dete-2024/
SUMMARY:SLNL - Fête d'Ete
DESCRIPTION:SLNL - Fête d'Ete\n\nToutes les informations sont dans votre B
 ulletin.
CATEGORIES:SLNL
LOCATION:SLNL Terrain\, SLNL Terrain\, Luxembourg\, Luxembourg
X-APPLE-STRUCTURED-LOCATION;VALUE=URI;X-ADDRESS=SLNL Terrain\, Luxembourg\,
  Luxembourg;X-APPLE-RADIUS=100;X-TITLE=SLNL Terrain:geo:0,0
END:VEVENT
BEGIN:VTIMEZONE
TZID:Europe/Luxembourg
X-LIC-LOCATION:Europe/Luxembourg
BEGIN:DAYLIGHT
DTSTART:20260329T030000
TZOFFSETFROM:+0100
TZOFFSETTO:+0200
TZNAME:CEST
END:DAYLIGHT
END:VTIMEZONE
END:VCALENDAR