BEGIN:VCALENDAR
VERSION:2.0
PRODID:-//wp-events-plugin.com//7.2.3.1//EN
TZID:Europe/Luxembourg
X-WR-TIMEZONE:Europe/Luxembourg
BEGIN:VEVENT
UID:173@naturisme.lu
DTSTART;TZID=Europe/Luxembourg:20260501T000000
DTEND;TZID=Europe/Luxembourg:20260501T000000
DTSTAMP:20251029T202459Z
URL:https://www.naturisme.lu/de/events/slnl-wanderung/
SUMMARY:SLNL - Wanderung
DESCRIPTION:SLNL - Wanderung
CATEGORIES:SLNL
LOCATION:SLNL-Freizeitgelände\, SLNL FKK-Erholungsgelände\, Luxembourg\, 
 Luxemburg
X-APPLE-STRUCTURED-LOCATION;VALUE=URI;X-ADDRESS=SLNL FKK-Erholungsgelände\
 , Luxembourg\, Luxemburg;X-APPLE-RADIUS=100;X-TITLE=SLNL-Freizeitgelände:
 geo:0,0
END:VEVENT
BEGIN:VTIMEZONE
TZID:Europe/Luxembourg
X-LIC-LOCATION:Europe/Luxembourg
BEGIN:DAYLIGHT
DTSTART:20260329T030000
TZOFFSETFROM:+0100
TZOFFSETTO:+0200
TZNAME:CEST
END:DAYLIGHT
END:VTIMEZONE
END:VCALENDAR