BEGIN:VCALENDAR
VERSION:2.0
PRODID:-//wp-events-plugin.com//7.2.3.1//EN
TZID:Europe/Luxembourg
X-WR-TIMEZONE:Europe/Luxembourg
BEGIN:VEVENT
UID:176@naturisme.lu
DTSTART;TZID=Europe/Luxembourg:20261213T120000
DTEND;TZID=Europe/Luxembourg:20261213T160000
DTSTAMP:20251109T112234Z
URL:https://www.naturisme.lu/de/events/slnl-fete-de-noel-2/
SUMMARY:SLNL - Weihnachtsessen
DESCRIPTION:SLNL - Weihnachtsessen\n\n&nbsp\;
CATEGORIES:SLNL
LOCATION:SLNL-Freizeitgelände\, SLNL FKK-Erholungsgelände\, Luxembourg\, 
 Luxemburg
X-APPLE-STRUCTURED-LOCATION;VALUE=URI;X-ADDRESS=SLNL FKK-Erholungsgelände\
 , Luxembourg\, Luxemburg;X-APPLE-RADIUS=100;X-TITLE=SLNL-Freizeitgelände:
 geo:0,0
END:VEVENT
BEGIN:VTIMEZONE
TZID:Europe/Luxembourg
X-LIC-LOCATION:Europe/Luxembourg
BEGIN:STANDARD
DTSTART:20261025T020000
TZOFFSETFROM:+0200
TZOFFSETTO:+0100
TZNAME:CET
END:STANDARD
END:VTIMEZONE
END:VCALENDAR